BEGIN:VCALENDAR
VERSION:2.0
PRODID:-//Oxford Community Action - ECPv6.6.4.2//NONSGML v1.0//EN
CALSCALE:GREGORIAN
METHOD:PUBLISH
X-ORIGINAL-URL:https://oxfordcommunityaction.org
X-WR-CALDESC:Events for Oxford Community Action
REFRESH-INTERVAL;VALUE=DURATION:PT1H
X-Robots-Tag:noindex
X-PUBLISHED-TTL:PT1H
BEGIN:VTIMEZONE
TZID:Africa/Abidjan
BEGIN:STANDARD
TZOFFSETFROM:+0000
TZOFFSETTO:+0000
TZNAME:GMT
DTSTART:20240101T000000
END:STANDARD
TZID:Europe/London
BEGIN:DAYLIGHT
TZOFFSETFROM:+0000
TZOFFSETTO:+0100
TZNAME:BST
DTSTART:20250330T010000
END:DAYLIGHT
BEGIN:STANDARD
TZOFFSETFROM:+0100
TZOFFSETTO:+0000
TZNAME:GMT
DTSTART:20251026T010000
END:STANDARD
BEGIN:DAYLIGHT
TZOFFSETFROM:+0000
TZOFFSETTO:+0100
TZNAME:BST
DTSTART:20260329T010000
END:DAYLIGHT
BEGIN:STANDARD
TZOFFSETFROM:+0100
TZOFFSETTO:+0000
TZNAME:GMT
DTSTART:20261025T010000
END:STANDARD
END:VTIMEZONE
BEGIN:VEVENT
DTSTART;TZID=Africa/Abidjan:20240727T090000
DTEND;TZID=Africa/Abidjan:20240727T220000
DTSTAMP:20260422T033214
CREATED:20230825T231648Z
LAST-MODIFIED:20230825T232326Z
UID:3016-1722070800-1722117600@oxfordcommunityaction.org
SUMMARY:Monthly hike
DESCRIPTION:
URL:https://oxfordcommunityaction.org/event/monthly-hike-12/
CATEGORIES:Active
END:VEVENT
BEGIN:VEVENT
DTSTART;TZID=Africa/Abidjan:20240810T100000
DTEND;TZID=Africa/Abidjan:20240810T110000
DTSTAMP:20260422T033214
CREATED:20230825T231652Z
LAST-MODIFIED:20240513T214646Z
UID:3021-1723284000-1723287600@oxfordcommunityaction.org
SUMMARY:Hiking 2.0
DESCRIPTION:
URL:https://oxfordcommunityaction.org/event/hiking-2-0-12/
CATEGORIES:Active,Training
END:VEVENT
BEGIN:VEVENT
DTSTART;TZID=Africa/Abidjan:20240825T060000
DTEND;TZID=Africa/Abidjan:20240825T220000
DTSTAMP:20260422T033214
CREATED:20230825T231658Z
LAST-MODIFIED:20230825T232325Z
UID:3027-1724565600-1724623200@oxfordcommunityaction.org
SUMMARY:Monthly hike
DESCRIPTION:
URL:https://oxfordcommunityaction.org/event/monthly-hike-13/
LOCATION:To be confirmed
CATEGORIES:Active
END:VEVENT
BEGIN:VEVENT
DTSTART;TZID=Europe/London:20250523T120000
DTEND;TZID=Europe/London:20250525T150000
DTSTAMP:20260422T033214
CREATED:20230929T082940Z
LAST-MODIFIED:20240513T222826Z
UID:3450-1748001600-1748185200@oxfordcommunityaction.org
SUMMARY:Camping Activity Retreat - Avon Tyrrell
DESCRIPTION:
URL:https://oxfordcommunityaction.org/event/camping-retreat/
LOCATION:Avon Tyrrell Braggers Lane\, Avon Tyrrell\, Bransgore\, Christchurch\, England
CATEGORIES:Active
END:VEVENT
BEGIN:VEVENT
DTSTART;TZID=Europe/London:20250801T120000
DTEND;TZID=Europe/London:20250803T150000
DTSTAMP:20260422T033214
CREATED:20240513T222932Z
LAST-MODIFIED:20240513T222932Z
UID:4739-1754049600-1754233200@oxfordcommunityaction.org
SUMMARY:Camping Activity Retreat - Avon Tyrrell
DESCRIPTION:
URL:https://oxfordcommunityaction.org/event/camping-activity-retreat-avon-tyrrell/
LOCATION:Avon Tyrrell Braggers Lane\, Avon Tyrrell\, Bransgore\, Christchurch\, England
CATEGORIES:Active
END:VEVENT
BEGIN:VEVENT
DTSTART;TZID=Europe/London:20260110T050000
DTEND;TZID=Europe/London:20260110T220000
DTSTAMP:20260422T033214
CREATED:20251222T094613Z
LAST-MODIFIED:20251222T094613Z
UID:5333-1768021200-1768082400@oxfordcommunityaction.org
SUMMARY:Hike 2.0
DESCRIPTION:Hike 2.0 happens every 2nd Saturday\, ever month and is for advanced participants. \nThe Community Hike is for non-advanced hikers and also runs once a month.
URL:https://oxfordcommunityaction.org/event/hike-2-0/
CATEGORIES:Active
END:VEVENT
BEGIN:VEVENT
DTSTART;TZID=Europe/London:20260131T050000
DTEND;TZID=Europe/London:20260131T220000
DTSTAMP:20260422T033214
CREATED:20251222T094944Z
LAST-MODIFIED:20251222T094944Z
UID:5335-1769835600-1769896800@oxfordcommunityaction.org
SUMMARY:Community Hike
DESCRIPTION:
URL:https://oxfordcommunityaction.org/event/community-hike/
CATEGORIES:Active
END:VEVENT
END:VCALENDAR