BEGIN:VCALENDAR
VERSION:2.0
PRODID:-//Oxford Community Action - ECPv6.6.4.2//NONSGML v1.0//EN
CALSCALE:GREGORIAN
METHOD:PUBLISH
X-WR-CALNAME:Oxford Community Action
X-ORIGINAL-URL:https://oxfordcommunityaction.org
X-WR-CALDESC:Events for Oxford Community Action
REFRESH-INTERVAL;VALUE=DURATION:PT1H
X-Robots-Tag:noindex
X-PUBLISHED-TTL:PT1H
BEGIN:VTIMEZONE
TZID:Africa/Abidjan
BEGIN:STANDARD
TZOFFSETFROM:+0000
TZOFFSETTO:+0000
TZNAME:GMT
DTSTART:20240101T000000
END:STANDARD
TZID:Europe/London
BEGIN:DAYLIGHT
TZOFFSETFROM:+0000
TZOFFSETTO:+0100
TZNAME:BST
DTSTART:20240331T010000
END:DAYLIGHT
BEGIN:STANDARD
TZOFFSETFROM:+0100
TZOFFSETTO:+0000
TZNAME:GMT
DTSTART:20241027T010000
END:STANDARD
END:VTIMEZONE
BEGIN:VEVENT
DTSTART;TZID=Africa/Abidjan:20240214T100000
DTEND;TZID=Africa/Abidjan:20240214T140000
DTSTAMP:20260422T014934
CREATED:20230825T231613Z
LAST-MODIFIED:20230825T232450Z
UID:2952-1707904800-1707919200@oxfordcommunityaction.org
SUMMARY:OCA Food distribution
DESCRIPTION:
URL:https://oxfordcommunityaction.org/event/oca-food-distribution-25/
LOCATION:OCA\, John Bunyan Baptist Church\, Crowell Road\, Oxford\, OX4 3LN\, United Kingdom
CATEGORIES:Community
END:VEVENT
BEGIN:VEVENT
DTSTART;TZID=Africa/Abidjan:20240221T100000
DTEND;TZID=Africa/Abidjan:20240221T140000
DTSTAMP:20260422T014934
CREATED:20230825T231614Z
LAST-MODIFIED:20230825T232449Z
UID:2954-1708509600-1708524000@oxfordcommunityaction.org
SUMMARY:OCA Food distribution
DESCRIPTION:
URL:https://oxfordcommunityaction.org/event/oca-food-distribution-26/
LOCATION:OCA\, John Bunyan Baptist Church\, Crowell Road\, Oxford\, OX4 3LN\, United Kingdom
CATEGORIES:Community
END:VEVENT
BEGIN:VEVENT
DTSTART;TZID=Africa/Abidjan:20240228T100000
DTEND;TZID=Africa/Abidjan:20240228T140000
DTSTAMP:20260422T014934
CREATED:20230825T231616Z
LAST-MODIFIED:20230825T232448Z
UID:2957-1709114400-1709128800@oxfordcommunityaction.org
SUMMARY:OCA Food distribution
DESCRIPTION:
URL:https://oxfordcommunityaction.org/event/oca-food-distribution-27/
LOCATION:OCA\, John Bunyan Baptist Church\, Crowell Road\, Oxford\, OX4 3LN\, United Kingdom
CATEGORIES:Community
END:VEVENT
BEGIN:VEVENT
DTSTART;TZID=Africa/Abidjan:20240306T100000
DTEND;TZID=Africa/Abidjan:20240306T140000
DTSTAMP:20260422T014934
CREATED:20230825T231617Z
LAST-MODIFIED:20230825T232448Z
UID:2960-1709719200-1709733600@oxfordcommunityaction.org
SUMMARY:OCA Food distribution
DESCRIPTION:
URL:https://oxfordcommunityaction.org/event/oca-food-distribution-28/
LOCATION:OCA\, John Bunyan Baptist Church\, Crowell Road\, Oxford\, OX4 3LN\, United Kingdom
CATEGORIES:Community
END:VEVENT
BEGIN:VEVENT
DTSTART;TZID=Europe/London:20240308T133000
DTEND;TZID=Europe/London:20240308T183000
DTSTAMP:20260422T014934
CREATED:20240304T125641Z
LAST-MODIFIED:20240304T130319Z
UID:4350-1709904600-1709922600@oxfordcommunityaction.org
SUMMARY:Oxford Community Health Day - Friday 8 March 2024
DESCRIPTION:
URL:https://oxfordcommunityaction.org/event/oxford-community-health-day/
LOCATION:Leys Poole and Leasure Centre\, Pegasus Road\, Oxford\, OX4 6JL
CATEGORIES:Community
ATTACH;FMTTYPE=image/jpeg:https://oxfordcommunityaction.org/wp-content/uploads/photo_2024-03-04-16.52.52.jpeg
END:VEVENT
BEGIN:VEVENT
DTSTART;TZID=Africa/Abidjan:20240313T100000
DTEND;TZID=Africa/Abidjan:20240313T140000
DTSTAMP:20260422T014934
CREATED:20230825T231620Z
LAST-MODIFIED:20230825T232447Z
UID:2964-1710324000-1710338400@oxfordcommunityaction.org
SUMMARY:OCA Food distribution
DESCRIPTION:
URL:https://oxfordcommunityaction.org/event/oca-food-distribution-29/
LOCATION:OCA\, John Bunyan Baptist Church\, Crowell Road\, Oxford\, OX4 3LN\, United Kingdom
CATEGORIES:Community
END:VEVENT
BEGIN:VEVENT
DTSTART;TZID=Africa/Abidjan:20240320T100000
DTEND;TZID=Africa/Abidjan:20240320T140000
DTSTAMP:20260422T014934
CREATED:20230825T231621Z
LAST-MODIFIED:20230825T232446Z
UID:2966-1710928800-1710943200@oxfordcommunityaction.org
SUMMARY:OCA Food distribution
DESCRIPTION:
URL:https://oxfordcommunityaction.org/event/oca-food-distribution-30/
LOCATION:OCA\, John Bunyan Baptist Church\, Crowell Road\, Oxford\, OX4 3LN\, United Kingdom
CATEGORIES:Community
END:VEVENT
BEGIN:VEVENT
DTSTART;TZID=Africa/Abidjan:20240327T100000
DTEND;TZID=Africa/Abidjan:20240327T140000
DTSTAMP:20260422T014934
CREATED:20230825T231622Z
LAST-MODIFIED:20230825T232446Z
UID:2968-1711533600-1711548000@oxfordcommunityaction.org
SUMMARY:OCA Food distribution
DESCRIPTION:
URL:https://oxfordcommunityaction.org/event/oca-food-distribution-31/
LOCATION:OCA\, John Bunyan Baptist Church\, Crowell Road\, Oxford\, OX4 3LN\, United Kingdom
CATEGORIES:Community
END:VEVENT
BEGIN:VEVENT
DTSTART;TZID=Africa/Abidjan:20240403T100000
DTEND;TZID=Africa/Abidjan:20240403T140000
DTSTAMP:20260422T014934
CREATED:20230825T231624Z
LAST-MODIFIED:20230825T232445Z
UID:2971-1712138400-1712152800@oxfordcommunityaction.org
SUMMARY:OCA Food distribution
DESCRIPTION:
URL:https://oxfordcommunityaction.org/event/oca-food-distribution-32/
LOCATION:OCA\, John Bunyan Baptist Church\, Crowell Road\, Oxford\, OX4 3LN\, United Kingdom
CATEGORIES:Community
END:VEVENT
BEGIN:VEVENT
DTSTART;TZID=Africa/Abidjan:20240410T100000
DTEND;TZID=Africa/Abidjan:20240410T140000
DTSTAMP:20260422T014935
CREATED:20230825T231625Z
LAST-MODIFIED:20230825T232444Z
UID:2974-1712743200-1712757600@oxfordcommunityaction.org
SUMMARY:OCA Food distribution
DESCRIPTION:
URL:https://oxfordcommunityaction.org/event/oca-food-distribution-33/
LOCATION:OCA\, John Bunyan Baptist Church\, Crowell Road\, Oxford\, OX4 3LN\, United Kingdom
CATEGORIES:Community
END:VEVENT
BEGIN:VEVENT
DTSTART;TZID=Africa/Abidjan:20240417T100000
DTEND;TZID=Africa/Abidjan:20240417T140000
DTSTAMP:20260422T014935
CREATED:20230825T231627Z
LAST-MODIFIED:20230825T232443Z
UID:2977-1713348000-1713362400@oxfordcommunityaction.org
SUMMARY:OCA Food distribution
DESCRIPTION:
URL:https://oxfordcommunityaction.org/event/oca-food-distribution-34/
LOCATION:OCA\, John Bunyan Baptist Church\, Crowell Road\, Oxford\, OX4 3LN\, United Kingdom
CATEGORIES:Community
END:VEVENT
BEGIN:VEVENT
DTSTART;TZID=Africa/Abidjan:20240424T100000
DTEND;TZID=Africa/Abidjan:20240424T140000
DTSTAMP:20260422T014935
CREATED:20230825T231628Z
LAST-MODIFIED:20230825T232443Z
UID:2979-1713952800-1713967200@oxfordcommunityaction.org
SUMMARY:OCA Food distribution
DESCRIPTION:
URL:https://oxfordcommunityaction.org/event/oca-food-distribution-35/
LOCATION:OCA\, John Bunyan Baptist Church\, Crowell Road\, Oxford\, OX4 3LN\, United Kingdom
CATEGORIES:Community
END:VEVENT
BEGIN:VEVENT
DTSTART;TZID=Africa/Abidjan:20240501T100000
DTEND;TZID=Africa/Abidjan:20240501T140000
DTSTAMP:20260422T014935
CREATED:20230825T231630Z
LAST-MODIFIED:20230825T232442Z
UID:2982-1714557600-1714572000@oxfordcommunityaction.org
SUMMARY:OCA Food distribution
DESCRIPTION:
URL:https://oxfordcommunityaction.org/event/oca-food-distribution-36/
LOCATION:OCA\, John Bunyan Baptist Church\, Crowell Road\, Oxford\, OX4 3LN\, United Kingdom
CATEGORIES:Community
END:VEVENT
BEGIN:VEVENT
DTSTART;TZID=Africa/Abidjan:20240508T100000
DTEND;TZID=Africa/Abidjan:20240508T140000
DTSTAMP:20260422T014935
CREATED:20230825T231631Z
LAST-MODIFIED:20230825T232441Z
UID:2984-1715162400-1715176800@oxfordcommunityaction.org
SUMMARY:OCA Food distribution
DESCRIPTION:
URL:https://oxfordcommunityaction.org/event/oca-food-distribution-37/
LOCATION:OCA\, John Bunyan Baptist Church\, Crowell Road\, Oxford\, OX4 3LN\, United Kingdom
CATEGORIES:Community
END:VEVENT
BEGIN:VEVENT
DTSTART;TZID=Africa/Abidjan:20240515T100000
DTEND;TZID=Africa/Abidjan:20240515T140000
DTSTAMP:20260422T014935
CREATED:20230825T231632Z
LAST-MODIFIED:20230825T232441Z
UID:2988-1715767200-1715781600@oxfordcommunityaction.org
SUMMARY:OCA Food distribution
DESCRIPTION:
URL:https://oxfordcommunityaction.org/event/oca-food-distribution-38/
LOCATION:OCA\, John Bunyan Baptist Church\, Crowell Road\, Oxford\, OX4 3LN\, United Kingdom
CATEGORIES:Community
END:VEVENT
BEGIN:VEVENT
DTSTART;TZID=Africa/Abidjan:20240522T100000
DTEND;TZID=Africa/Abidjan:20240522T140000
DTSTAMP:20260422T014935
CREATED:20230825T231633Z
LAST-MODIFIED:20230825T232440Z
UID:2990-1716372000-1716386400@oxfordcommunityaction.org
SUMMARY:OCA Food distribution
DESCRIPTION:
URL:https://oxfordcommunityaction.org/event/oca-food-distribution-39/
LOCATION:OCA\, John Bunyan Baptist Church\, Crowell Road\, Oxford\, OX4 3LN\, United Kingdom
CATEGORIES:Community
END:VEVENT
BEGIN:VEVENT
DTSTART;TZID=Africa/Abidjan:20240529T100000
DTEND;TZID=Africa/Abidjan:20240529T140000
DTSTAMP:20260422T014935
CREATED:20230825T231635Z
LAST-MODIFIED:20230825T232440Z
UID:2993-1716976800-1716991200@oxfordcommunityaction.org
SUMMARY:OCA Food distribution
DESCRIPTION:
URL:https://oxfordcommunityaction.org/event/oca-food-distribution-40/
LOCATION:OCA\, John Bunyan Baptist Church\, Crowell Road\, Oxford\, OX4 3LN\, United Kingdom
CATEGORIES:Community
END:VEVENT
BEGIN:VEVENT
DTSTART;TZID=Africa/Abidjan:20240605T100000
DTEND;TZID=Africa/Abidjan:20240605T140000
DTSTAMP:20260422T014935
CREATED:20230825T231637Z
LAST-MODIFIED:20230825T232439Z
UID:2996-1717581600-1717596000@oxfordcommunityaction.org
SUMMARY:OCA Food distribution
DESCRIPTION:
URL:https://oxfordcommunityaction.org/event/oca-food-distribution-41/
LOCATION:OCA\, John Bunyan Baptist Church\, Crowell Road\, Oxford\, OX4 3LN\, United Kingdom
CATEGORIES:Community
END:VEVENT
BEGIN:VEVENT
DTSTART;TZID=Africa/Abidjan:20240612T100000
DTEND;TZID=Africa/Abidjan:20240612T140000
DTSTAMP:20260422T014935
CREATED:20230825T231639Z
LAST-MODIFIED:20230825T232439Z
UID:3000-1718186400-1718200800@oxfordcommunityaction.org
SUMMARY:OCA Food distribution
DESCRIPTION:
URL:https://oxfordcommunityaction.org/event/oca-food-distribution-42/
LOCATION:OCA\, John Bunyan Baptist Church\, Crowell Road\, Oxford\, OX4 3LN\, United Kingdom
CATEGORIES:Community
END:VEVENT
BEGIN:VEVENT
DTSTART;TZID=Africa/Abidjan:20240619T100000
DTEND;TZID=Africa/Abidjan:20240619T140000
DTSTAMP:20260422T014935
CREATED:20230825T231640Z
LAST-MODIFIED:20230825T232438Z
UID:3002-1718791200-1718805600@oxfordcommunityaction.org
SUMMARY:OCA Food distribution
DESCRIPTION:
URL:https://oxfordcommunityaction.org/event/oca-food-distribution-43/
LOCATION:OCA\, John Bunyan Baptist Church\, Crowell Road\, Oxford\, OX4 3LN\, United Kingdom
CATEGORIES:Community
END:VEVENT
BEGIN:VEVENT
DTSTART;TZID=Africa/Abidjan:20240626T100000
DTEND;TZID=Africa/Abidjan:20240626T140000
DTSTAMP:20260422T014935
CREATED:20230825T231641Z
LAST-MODIFIED:20230825T232437Z
UID:3004-1719396000-1719410400@oxfordcommunityaction.org
SUMMARY:OCA Food distribution
DESCRIPTION:
URL:https://oxfordcommunityaction.org/event/oca-food-distribution-44/
LOCATION:OCA\, John Bunyan Baptist Church\, Crowell Road\, Oxford\, OX4 3LN\, United Kingdom
CATEGORIES:Community
END:VEVENT
BEGIN:VEVENT
DTSTART;TZID=Africa/Abidjan:20240703T100000
DTEND;TZID=Africa/Abidjan:20240703T140000
DTSTAMP:20260422T014935
CREATED:20230825T231642Z
LAST-MODIFIED:20230825T232437Z
UID:3007-1720000800-1720015200@oxfordcommunityaction.org
SUMMARY:OCA Food distribution
DESCRIPTION:
URL:https://oxfordcommunityaction.org/event/oca-food-distribution-45/
LOCATION:OCA\, John Bunyan Baptist Church\, Crowell Road\, Oxford\, OX4 3LN\, United Kingdom
CATEGORIES:Community
END:VEVENT
BEGIN:VEVENT
DTSTART;TZID=Africa/Abidjan:20240710T100000
DTEND;TZID=Africa/Abidjan:20240710T140000
DTSTAMP:20260422T014935
CREATED:20230825T231644Z
LAST-MODIFIED:20230825T232436Z
UID:3010-1720605600-1720620000@oxfordcommunityaction.org
SUMMARY:OCA Food distribution
DESCRIPTION:
URL:https://oxfordcommunityaction.org/event/oca-food-distribution-46/
LOCATION:OCA\, John Bunyan Baptist Church\, Crowell Road\, Oxford\, OX4 3LN\, United Kingdom
CATEGORIES:Community
END:VEVENT
BEGIN:VEVENT
DTSTART;TZID=Africa/Abidjan:20240717T100000
DTEND;TZID=Africa/Abidjan:20240717T140000
DTSTAMP:20260422T014935
CREATED:20230825T231645Z
LAST-MODIFIED:20230825T232435Z
UID:3013-1721210400-1721224800@oxfordcommunityaction.org
SUMMARY:OCA Food distribution
DESCRIPTION:
URL:https://oxfordcommunityaction.org/event/oca-food-distribution-47/
LOCATION:OCA\, John Bunyan Baptist Church\, Crowell Road\, Oxford\, OX4 3LN\, United Kingdom
CATEGORIES:Community
END:VEVENT
BEGIN:VEVENT
DTSTART;TZID=Africa/Abidjan:20240724T100000
DTEND;TZID=Africa/Abidjan:20240724T140000
DTSTAMP:20260422T014935
CREATED:20230825T231647Z
LAST-MODIFIED:20230825T232435Z
UID:3015-1721815200-1721829600@oxfordcommunityaction.org
SUMMARY:OCA Food distribution
DESCRIPTION:
URL:https://oxfordcommunityaction.org/event/oca-food-distribution-48/
LOCATION:OCA\, John Bunyan Baptist Church\, Crowell Road\, Oxford\, OX4 3LN\, United Kingdom
CATEGORIES:Community
END:VEVENT
BEGIN:VEVENT
DTSTART;TZID=Africa/Abidjan:20240731T100000
DTEND;TZID=Africa/Abidjan:20240731T140000
DTSTAMP:20260422T014935
CREATED:20230825T231650Z
LAST-MODIFIED:20230825T232434Z
UID:3018-1722420000-1722434400@oxfordcommunityaction.org
SUMMARY:OCA Food distribution
DESCRIPTION:
URL:https://oxfordcommunityaction.org/event/oca-food-distribution-49/
LOCATION:OCA\, John Bunyan Baptist Church\, Crowell Road\, Oxford\, OX4 3LN\, United Kingdom
CATEGORIES:Community
END:VEVENT
BEGIN:VEVENT
DTSTART;TZID=Africa/Abidjan:20240807T100000
DTEND;TZID=Africa/Abidjan:20240807T140000
DTSTAMP:20260422T014935
CREATED:20230825T231651Z
LAST-MODIFIED:20230825T232434Z
UID:3020-1723024800-1723039200@oxfordcommunityaction.org
SUMMARY:OCA Food distribution
DESCRIPTION:
URL:https://oxfordcommunityaction.org/event/oca-food-distribution-50/
LOCATION:OCA\, John Bunyan Baptist Church\, Crowell Road\, Oxford\, OX4 3LN\, United Kingdom
CATEGORIES:Community
END:VEVENT
BEGIN:VEVENT
DTSTART;TZID=Africa/Abidjan:20240814T100000
DTEND;TZID=Africa/Abidjan:20240814T140000
DTSTAMP:20260422T014935
CREATED:20230825T231655Z
LAST-MODIFIED:20230825T232433Z
UID:3024-1723629600-1723644000@oxfordcommunityaction.org
SUMMARY:OCA Food distribution
DESCRIPTION:
URL:https://oxfordcommunityaction.org/event/oca-food-distribution-51/
LOCATION:OCA\, John Bunyan Baptist Church\, Crowell Road\, Oxford\, OX4 3LN\, United Kingdom
CATEGORIES:Community
END:VEVENT
BEGIN:VEVENT
DTSTART;TZID=Africa/Abidjan:20240821T100000
DTEND;TZID=Africa/Abidjan:20240821T140000
DTSTAMP:20260422T014935
CREATED:20230825T231657Z
LAST-MODIFIED:20230929T094914Z
UID:3026-1724234400-1724248800@oxfordcommunityaction.org
SUMMARY:OCA Food Redistribution
DESCRIPTION:
URL:https://oxfordcommunityaction.org/event/oca-food-distribution-52/
LOCATION:OCA\, John Bunyan Baptist Church\, Crowell Road\, Oxford\, OX4 3LN\, United Kingdom
CATEGORIES:Community
END:VEVENT
BEGIN:VEVENT
DTSTART;TZID=Europe/London:20241216T130000
DTEND;TZID=Europe/London:20241216T150000
DTSTAMP:20260422T014935
CREATED:20241215T190819Z
LAST-MODIFIED:20241215T190848Z
UID:5228-1734354000-1734361200@oxfordcommunityaction.org
SUMMARY:Free workshop! GROW YOUR OWN FOOD IN SMALL POTS
DESCRIPTION:Learn how to use old milk cartons and other small containers to grow your own delicious\, fresh veg and herbs at home! We’ll show you how to do it and you’ll get a pot to take home. \nFREE\, drop-in. Refreshments served.
URL:https://oxfordcommunityaction.org/event/free-workshop-grow-your-own-food-in-small-pots/
LOCATION:Oxford Hub\, Windale Avenue\, Oxford\, OX4 6JD
CATEGORIES:Community
ATTACH;FMTTYPE=image/jpeg:https://oxfordcommunityaction.org/wp-content/uploads/photo_2024-12-15-19.07.57.jpeg
END:VEVENT
END:VCALENDAR